BEGIN:VCALENDAR
VERSION:2.0
PRODID:-//Dorpskerk Eelde - ECPv6.15.20//NONSGML v1.0//EN
CALSCALE:GREGORIAN
METHOD:PUBLISH
X-WR-CALNAME:Dorpskerk Eelde
X-ORIGINAL-URL:https://www.dorpskerkeelde.nl
X-WR-CALDESC:Evenementen voor Dorpskerk Eelde
REFRESH-INTERVAL;VALUE=DURATION:PT1H
X-Robots-Tag:noindex
X-PUBLISHED-TTL:PT1H
BEGIN:VTIMEZONE
TZID:Europe/Amsterdam
BEGIN:DAYLIGHT
TZOFFSETFROM:+0100
TZOFFSETTO:+0200
TZNAME:CEST
DTSTART:20240331T010000
END:DAYLIGHT
BEGIN:STANDARD
TZOFFSETFROM:+0200
TZOFFSETTO:+0100
TZNAME:CET
DTSTART:20241027T010000
END:STANDARD
BEGIN:DAYLIGHT
TZOFFSETFROM:+0100
TZOFFSETTO:+0200
TZNAME:CEST
DTSTART:20250330T010000
END:DAYLIGHT
BEGIN:STANDARD
TZOFFSETFROM:+0200
TZOFFSETTO:+0100
TZNAME:CET
DTSTART:20251026T010000
END:STANDARD
BEGIN:DAYLIGHT
TZOFFSETFROM:+0100
TZOFFSETTO:+0200
TZNAME:CEST
DTSTART:20260329T010000
END:DAYLIGHT
BEGIN:STANDARD
TZOFFSETFROM:+0200
TZOFFSETTO:+0100
TZNAME:CET
DTSTART:20261025T010000
END:STANDARD
BEGIN:DAYLIGHT
TZOFFSETFROM:+0100
TZOFFSETTO:+0200
TZNAME:CEST
DTSTART:20270328T010000
END:DAYLIGHT
BEGIN:STANDARD
TZOFFSETFROM:+0200
TZOFFSETTO:+0100
TZNAME:CET
DTSTART:20271031T010000
END:STANDARD
BEGIN:DAYLIGHT
TZOFFSETFROM:+0100
TZOFFSETTO:+0200
TZNAME:CEST
DTSTART:20280326T010000
END:DAYLIGHT
BEGIN:STANDARD
TZOFFSETFROM:+0200
TZOFFSETTO:+0100
TZNAME:CET
DTSTART:20281029T010000
END:STANDARD
END:VTIMEZONE
BEGIN:VEVENT
DTSTART;VALUE=DATE:20251207
DTEND;VALUE=DATE:20270107
DTSTAMP:20260423T115104
CREATED:20251103T202657Z
LAST-MODIFIED:20260414T203051Z
UID:2069-1765065600-1799279999@www.dorpskerkeelde.nl
SUMMARY:Komende activiteiten
DESCRIPTION:Hieronder vind je alle komende geplande activiteiten  in ’t Loughoes\, de Dorpskerk en elders: \n\n\n\nDatum:\nTijd:\nPlaats:\nWat:\nBijzonderheden:\n\n\n18 mei 2026\n20:00 uur\nAlberdina Beerlinglan 27\nHuiskamerbijeenkomst\naanmelden via 06-80070694\n\n\n23 mei 2026\n11:00 – 15:00 uur\nPaterswoldsemeer\nZeilen 13 jaar en ouder\naanmelden: wiegertjesgabrielle@gmail.com\n\n\n01 oktober 2026\n18:00 uur\n’t Loughoes\nWereldmaaltijd\nzie voor opgave tzt onder Nieuws\n\n\n\n  \nKoffietied: iedere eerste woensdag van de maand van 10.00 – 11:30 uur in ’t Loughoes\nBijbelkring Symphonie: iedere laatste woensdag van de maand\nAlzheimercafé Zuidlaren De Enk\, iedere 3e donderdag van de maand 19:30 – 21:30 uur
URL:https://www.dorpskerkeelde.nl/events/komende-activiteiten/
LOCATION:Dorpskerk\, Eelde
ATTACH;FMTTYPE=image/jpeg:https://www.dorpskerkeelde.nl/wp-content/uploads/2025/03/Header.jpg
END:VEVENT
END:VCALENDAR